BEGIN:VCALENDAR
VERSION:2.0
PRODID:-//Primer Instituto de la sanación y liberación del alma en el mundo - ECPv6.3.3.1//NONSGML v1.0//EN
CALSCALE:GREGORIAN
METHOD:PUBLISH
X-WR-CALNAME:Primer Instituto de la sanación y liberación del alma en el mundo
X-ORIGINAL-URL:https://kaplanalejandro.com
X-WR-CALDESC:Eventos para Primer Instituto de la sanación y liberación del alma en el mundo
REFRESH-INTERVAL;VALUE=DURATION:PT1H
X-Robots-Tag:noindex
X-PUBLISHED-TTL:PT1H
BEGIN:VTIMEZONE
TZID:UTC
BEGIN:STANDARD
TZOFFSETFROM:+0000
TZOFFSETTO:+0000
TZNAME:UTC
DTSTART:20250101T000000
END:STANDARD
END:VTIMEZONE
BEGIN:VEVENT
DTSTART;VALUE=DATE:20250809
DTEND;VALUE=DATE:20250811
DTSTAMP:20260424T172147
CREATED:20250112T191921Z
LAST-MODIFIED:20250408T174320Z
UID:10000031-1754697600-1754870399@kaplanalejandro.com
SUMMARY:¡Sumate a la segunda Formación!  FORMACIÓN INTERCONEXIONES UNIVERSALES & META-HIPNOSIS 2025 (segunda formación del año) – Nivel 1 (dos días)
DESCRIPTION:El Nivel I consta de dos días de formación\, en los cuales aprenderás sobre los diferentes tipos de trances Metahipnoticos. \n\nTécnicas de trances radicales y fulminantes.\nLas Regresiones.\nCómo producir una voz hipnótica.\nCómo trabajar con el poder de la sugestión.\nCómo crear una mirada hipnótica y magnética.\nLa metahipnoanalgesia.\nTécnica para anestesiar un dolor de manera radical.\nRaport: Cómo accionar la empatía.\nLa catalepsia.\nLa alucinosis.\nEl desarrrollo de los canales intuitivos.\nLa autoMetahipnosis\nLa iniciación e instalación de protecciones espirituales para el alma.\nLa técnica de la incorporación espiritual.\nRelajación y guía al paciente para ingresar al trance hipnótico.
URL:https://kaplanalejandro.com/evento/sumate-a-la-segunda-formacion-formacion-interconexiones-universales-meta-hipnosis-2025-segunda-formacion-del-ano-nivel-1-dos-dias/
CATEGORIES:SEGUNDA FORMACIÓN DEL AÑO
END:VEVENT
BEGIN:VEVENT
DTSTART;VALUE=DATE:20250816
DTEND;VALUE=DATE:20250818
DTSTAMP:20260424T172147
CREATED:20250112T192003Z
LAST-MODIFIED:20250112T192003Z
UID:10000032-1755302400-1755475199@kaplanalejandro.com
SUMMARY:¡Sumate a la segunda Formación!  FORMACIÓN INTERCONEXIONES UNIVERSALES & META-HIPNOSIS 2025 (segunda formación del año) – Nivel 2 (dos días)
DESCRIPTION:En el Nivel II nos adentraremos a las técnicas de contacto con las dimensiones del alma en la niñez y vidas pasadas. Podrás descubrir cómo sanar traumas y enfermedades que provienen de la etapa de la niñez que se encuentran completamente ocultas en los túneles secretos más profundos del inconsciente y del alma. \n\nAprenderás a hacer regresiones a vidas pasadas.\nCómo descubrir esos eventos que han dejado huellas de dolores y sufrimientos en el alma\, y que te afectan en esta y otras vidas dentro del plano de la existencia humana.\nCómo es el pasaje y el camino del alma después de la muerte.\nLos primeros contactos con seres de la Luz.\nCómo saldar las deudas espirituales de vidas pasadas.\nLey del Karma.\nEl origen de las acciones según el Angunttara Nikaya.\nEl origen de los fenómenos físicos o corpóreos.\nContacto con los diferentes origenes del karma.\nLos primeros contactos con Tu alma.\nDesarrollo y acercamiento a las técnicas del Dr. Charcot y Eriksoniana.
URL:https://kaplanalejandro.com/evento/sumate-a-la-segunda-formacion-formacion-interconexiones-universales-meta-hipnosis-2025-segunda-formacion-del-ano-nivel-2-dos-dias/
CATEGORIES:SEGUNDA FORMACIÓN DEL AÑO
END:VEVENT
BEGIN:VEVENT
DTSTART;VALUE=DATE:20250823
DTEND;VALUE=DATE:20250825
DTSTAMP:20260424T172147
CREATED:20250112T192053Z
LAST-MODIFIED:20250112T192110Z
UID:10000033-1755907200-1756079999@kaplanalejandro.com
SUMMARY:¡Sumate a la segunda Formación!  FORMACIÓN INTERCONEXIONES UNIVERSALES & META-HIPNOSIS 2025 (segunda formación del año) – Nivel 3 (dos días)
DESCRIPTION:En el Nivel lll entramos de lleno al contacto y manejo de las bases de las Interconexiones Universales.\n\n\n\n\n\n\n\n\n\nDesarrollo de los tratados a las regresiones al útero materno.\nDescubrirás cómo usar el renacimiento como método de sanación del alma.\nLa comunicación a través del trance chamánico por medio de las Interconexiones Universales.\nEl proyecto sentido espiritual del nacimiento revelado en vivo por las propias almas.\nDesarrollo de la técnica.\nInterconexiones con el alma de los Ancestros y antepasados.\nEn este tratado se verán cómo trabajar las liberaciones de los karmas y conflictos que cargaban los ancestros en sus vidas repercutiendo en el mundo del hoy.\nApertura de los portales de comunicación multidimensional con las almas.\nTratado de sanación de almas perdidas obsesoras y oscurecidas.\nLiberación de brujerías y hechicerías parte l.\nTécnica para poder liberar las almas.\nContactos con seres de luz.\nLas operaciones espirituales parte l.I
URL:https://kaplanalejandro.com/evento/sumate-a-la-segunda-formacion-formacion-interconexiones-universales-meta-hipnosis-2025-segunda-formacion-del-ano-nivel-3-dos-dias/
CATEGORIES:SEGUNDA FORMACIÓN DEL AÑO
END:VEVENT
BEGIN:VEVENT
DTSTART;VALUE=DATE:20250829
DTEND;VALUE=DATE:20250901
DTSTAMP:20260424T172147
CREATED:20250112T192720Z
LAST-MODIFIED:20250112T192720Z
UID:10000034-1756425600-1756684799@kaplanalejandro.com
SUMMARY:¡Sumate a la segunda Formación!  FORMACIÓN INTERCONEXIONES UNIVERSALES & META-HIPNOSIS 2025 (segunda formación del año) – Nivel 4 (tres días)
DESCRIPTION:Hay un antes y un después de iniciarte en este nivel. Abróchense los cinturones. Vamos a ir a una velocidad más allá de la velocidad de la luz. \nDía 1 \n\nConocerás cómo operar en el futuro.\nCómo rectificar y programar el futuro\, en un viaje donde tu mente y tu alma podrán trascender grandes paradigmas e incertidumbres que dañan tu presente.\nOperaciones espirituales parte ll.\nLa rectificación.\nLos refinamientos para liberar el dolor.\n\nDía 2 \n\nEl despertar de las profecías.\nIniciación con el contacto de entidades que habitan en las periferias de los cuerpos.\nLiberación de hogares.\nPactos y contra pactos de las entidades oscurecidas.\nConocerás cómo opera el mal y cómo desarticularlo parte l.\nLa sanación a través de las entidades de la luz.\nPoderes y facultades de los seres de la luz.\n\nDía 3 \n\nLas Interconexiones a través de las entidades de la Luz.\nConocerás diferentes tipos de tratados: el tratado para el tabaquismo y el tratado para el alcoholismo\, entre otros.\nApertura de la línea de ángeles y arcángeles.\nTécnicas de operaciones espirituales parte l.\nAprenderás cómo operan las entidades de la oscuridad multidimensional.\nDescubrirás la trama de cómo extirpar y liberar este.
URL:https://kaplanalejandro.com/evento/sumate-a-la-segunda-formacion-formacion-interconexiones-universales-meta-hipnosis-2025-segunda-formacion-del-ano-nivel-4-tres-dias/
CATEGORIES:SEGUNDA FORMACIÓN DEL AÑO
END:VEVENT
END:VCALENDAR