BEGIN:VCALENDAR
VERSION:2.0
PRODID:-//Primer Instituto de la sanación y liberación del alma en el mundo - ECPv6.3.3.1//NONSGML v1.0//EN
CALSCALE:GREGORIAN
METHOD:PUBLISH
X-ORIGINAL-URL:https://kaplanalejandro.com
X-WR-CALDESC:Eventos para Primer Instituto de la sanación y liberación del alma en el mundo
REFRESH-INTERVAL;VALUE=DURATION:PT1H
X-Robots-Tag:noindex
X-PUBLISHED-TTL:PT1H
BEGIN:VTIMEZONE
TZID:UTC
BEGIN:STANDARD
TZOFFSETFROM:+0000
TZOFFSETTO:+0000
TZNAME:UTC
DTSTART:20250101T000000
END:STANDARD
END:VTIMEZONE
BEGIN:VEVENT
DTSTART;VALUE=DATE:20250906
DTEND;VALUE=DATE:20250908
DTSTAMP:20260424T155214
CREATED:20250112T193404Z
LAST-MODIFIED:20250112T193404Z
UID:10000035-1757116800-1757289599@kaplanalejandro.com
SUMMARY:¡Sumate a la segunda Formación!  FORMACIÓN INTERCONEXIONES UNIVERSALES & META-HIPNOSIS 2025 (segunda formación del año) – Nivel 5 (dos días)
DESCRIPTION:En este nivel veremos en profundidad los detalles de cómo están compuestos los niveles del alma en sus múltiples dimensiones. \n\nAlquimia y medicina espiritual.\nApertura a la línea de sabidurías cósmicas.\nLos 7 poderes del alma.\nLas entidades que habitan ocultas en los niveles más profundos del alma.\nCómo opera el mal.\nLas entidades intervencionistas.\nLa apertura a la línea de médicos del cosmos y el espacio.\nLas 5 líneas fundamentales de las Interconexiones Universales.\nCómo aprender a realizar cirugías espirituales.\nDisolución de karmas en vidas y mundos paralelos.\nLos karmas multidimensionales.\nLas entidades en otros mundos.\nDesarrollo de los poderes suprafísicos.\nOjo divino.\nOído divino.
URL:https://kaplanalejandro.com/evento/sumate-a-la-segunda-formacion-formacion-interconexiones-universales-meta-hipnosis-2025-segunda-formacion-del-ano-nivel-5-dos-dias/
CATEGORIES:SEGUNDA FORMACIÓN DEL AÑO
END:VEVENT
BEGIN:VEVENT
DTSTART;VALUE=DATE:20250912
DTEND;VALUE=DATE:20250915
DTSTAMP:20260424T155214
CREATED:20250112T193501Z
LAST-MODIFIED:20250112T193501Z
UID:10000036-1757635200-1757894399@kaplanalejandro.com
SUMMARY:¡Sumate a la segunda Formación!  FORMACIÓN INTERCONEXIONES UNIVERSALES & META-HIPNOSIS 2025 (segunda formación del año) – Nivel 5 (tres días)
DESCRIPTION:En este nivel veremos en profundidad los detalles de cómo están compuestos los niveles del alma en sus múltiples dimensiones. \n\nAlquimia y medicina espiritual.\nApertura a la línea de sabidurías cósmicas.\nLos 7 poderes del alma.\nLas entidades que habitan ocultas en los niveles más profundos del alma.\nCómo opera el mal.\nLas entidades intervencionistas.\nLa apertura a la línea de médicos del cosmos y el espacio.\nLas 5 líneas fundamentales de las Interconexiones Universales.\nCómo aprender a realizar cirugías espirituales.\nDisolución de karmas en vidas y mundos paralelos.\nLos karmas multidimensionales.\nLas entidades en otros mundos.\nDesarrollo de los poderes suprafísicos.\nOjo divino.\nOído divino.
URL:https://kaplanalejandro.com/evento/sumate-a-la-segunda-formacion-formacion-interconexiones-universales-meta-hipnosis-2025-segunda-formacion-del-ano-nivel-5-tres-dias/
CATEGORIES:SEGUNDA FORMACIÓN DEL AÑO
END:VEVENT
END:VCALENDAR