BEGIN:VCALENDAR
VERSION:2.0
PRODID:-//Primer Instituto de la sanación y liberación del alma en el mundo - ECPv6.3.3.1//NONSGML v1.0//EN
CALSCALE:GREGORIAN
METHOD:PUBLISH
X-WR-CALNAME:Primer Instituto de la sanación y liberación del alma en el mundo
X-ORIGINAL-URL:https://kaplanalejandro.com
X-WR-CALDESC:Eventos para Primer Instituto de la sanación y liberación del alma en el mundo
REFRESH-INTERVAL;VALUE=DURATION:PT1H
X-Robots-Tag:noindex
X-PUBLISHED-TTL:PT1H
BEGIN:VTIMEZONE
TZID:UTC
BEGIN:STANDARD
TZOFFSETFROM:+0000
TZOFFSETTO:+0000
TZNAME:UTC
DTSTART:20250101T000000
END:STANDARD
END:VTIMEZONE
BEGIN:VEVENT
DTSTART;VALUE=DATE:20251114
DTEND;VALUE=DATE:20251117
DTSTAMP:20260424T134407
CREATED:20250112T193623Z
LAST-MODIFIED:20250112T193848Z
UID:10000037-1763078400-1763337599@kaplanalejandro.com
SUMMARY:¡Sumate a la segunda Formación!  FORMACIÓN INTERCONEXIONES UNIVERSALES & META-HIPNOSIS 2025 (segunda formación del año) – Nivel 6 (tres días)
DESCRIPTION:En este nivel veremos en profundidad los detalles de cómo están compuestos los niveles del alma en sus múltiples dimensiones. \n\nEl origen del mal.\nLos motivos y fundamentos de la creación para introducirlo y darle atributos.\nEl pecado original.\nCuáles son las funciones y misiones del mal y la oscuridad.\nLas tentaciones.\nLos poderes del mal. “La insensatez y la arrogancia”.\nLos Gueinom “los infiernos” Kafa Kela.\nLos castigos que reciben las almas antes de entrar al Gueinom.\nChibut Hakever\, [los castigos de la tumba].\nLos Ángeles caídos.\nLos nombres del Oscuro y sus atributos.\nEl futuro de los Gueinom.\nLa liberación del mal.
URL:https://kaplanalejandro.com/evento/sumate-a-la-segunda-formacion-formacion-interconexiones-universales-meta-hipnosis-2025-segunda-formacion-del-ano-nivel-6-tres-dias/
CATEGORIES:SEGUNDA FORMACIÓN DEL AÑO
END:VEVENT
END:VCALENDAR